BEGIN:VCALENDAR
VERSION:2.0
PRODID:-//Squarespace Inc/Squarespace 6//v6//EN
BEGIN:VEVENT
UID:649f59b628068b4fe399dc10@squarespace.com
DTSTAMP:20230630T224820Z
DTSTART:20230714T030000Z
DTEND:20230714T040000Z
SUMMARY:Weekly Volleyball Clinic
END:VEVENT
END:VCALENDAR
