BEGIN:VCALENDAR
VERSION:2.0
PRODID:-//Squarespace Inc/Squarespace 6//v6//EN
BEGIN:VEVENT
UID:649f58285005003c19e6c182@squarespace.com
DTSTAMP:20230704T152559Z
DTSTART:20230802T160000Z
DTEND:20230804T230000Z
SUMMARY:Volunteer Opportunity for College &amp\; High Schoolers
END:VEVENT
END:VCALENDAR
