BEGIN:VCALENDAR
VERSION:2.0
PRODID:-//Squarespace Inc/Squarespace 6//v6//EN
BEGIN:VEVENT
UID:649f58285005003c19e6c17f@squarespace.com
DTSTAMP:20230630T224612Z
DTSTART:20230630T030000Z
DTEND:20230630T043000Z
SUMMARY:Weekly Volleyball Clinic
END:VEVENT
END:VCALENDAR
