BEGIN:VCALENDAR
VERSION:2.0
PRODID:-//Squarespace Inc/Squarespace 6//v6//EN
BEGIN:VEVENT
UID:648e6a56518f87218dd0f5fe@squarespace.com
DTSTAMP:20230624T023933Z
DTSTART:20230719T153000Z
DTEND:20230719T210000Z
SUMMARY:Sports &amp\; Leadership Camp - 1st Day
GEO:35.920109;-78.96126
LOCATION:UNC Rams Gym\, 340 Ridge Road\, Chapel Hill\, NC 27599\, United St
 ates
END:VEVENT
END:VCALENDAR
