BEGIN:VCALENDAR
VERSION:2.0
PRODID:-//Squarespace Inc/Squarespace 6//v6//EN
BEGIN:VEVENT
UID:648e6b0a4088ae7b6ea9f7c3@squarespace.com
DTSTAMP:20230624T024013Z
DTSTART:20230720T153000Z
DTEND:20230720T210000Z
SUMMARY:Sports & Leadership Camp - Day 2
GEO:35.920109;-78.96126
LOCATION:UNC Rams Gym\, 340 Ridge Road\, Chapel Hill\, NC 27599\, United St
 ates
END:VEVENT
END:VCALENDAR
