BEGIN:VCALENDAR
VERSION:2.0
PRODID:-//Squarespace Inc/Squarespace 6//v6//EN
BEGIN:VEVENT
UID:648e6d5334390f3aeb64631d@squarespace.com
DTSTAMP:20230624T022718Z
DTSTART:20230715T013000Z
DTEND:20230715T043000Z
SUMMARY:Monthly Youth Sports Night
GEO:35.904587;-79.045037
LOCATION:UNC Rams Gym\, 340 Ridge Road\, Chapel Hill\, NC\, 27599\, United 
 States
END:VEVENT
END:VCALENDAR
