BEGIN:VCALENDAR
VERSION:2.0
PRODID:-//Squarespace Inc/Squarespace 6//v6//EN
BEGIN:VEVENT
UID:648e6df75870e227f4ec9e75@squarespace.com
DTSTAMP:20230624T022844Z
DTSTART:20230812T013000Z
DTEND:20230812T043000Z
SUMMARY:Monthly Youth Sports Night
GEO:35.904587;-79.045037
LOCATION:UNC Rams Gym\, 340 Ridge Road\, Chapel Hill\, NC\, 27599\, United 
 States
END:VEVENT
END:VCALENDAR
