BEGIN:VCALENDAR
VERSION:2.0
PRODID:-//Squarespace Inc/Squarespace 6//v6//EN
BEGIN:VEVENT
UID:6283049066014a035545eb26@squarespace.com
DTSTAMP:20220517T023443Z
DTSTART:20220613T150000Z
DTEND:20220615T210000Z
SUMMARY:High School Volunteer Mentors
END:VEVENT
END:VCALENDAR
