BEGIN:VCALENDAR
VERSION:2.0
PRODID:-//Squarespace Inc/Squarespace 6//v6//EN
BEGIN:VEVENT
UID:648e6cbe6270652daff80454@squarespace.com
DTSTAMP:20230624T024403Z
DTSTART:20230720T013000Z
DTEND:20230720T043000Z
SUMMARY:College Night
GEO:35.914182;-79.046309
LOCATION:UNC Study Center\, 203 Battle Lane\, Chapel Hill\, NC\, 27514\, Un
 ited States
END:VEVENT
END:VCALENDAR
