BEGIN:VCALENDAR
VERSION:2.0
PRODID:-//Squarespace Inc/Squarespace 6//v6//EN
BEGIN:VEVENT
UID:62d321d3b09b0b30b6db46f1@squarespace.com
DTSTAMP:20220716T204125Z
DTSTART:20220718T000000Z
DTEND:20220718T013000Z
SUMMARY:AYM Youth &amp\; College Church Service
END:VEVENT
END:VCALENDAR
