BEGIN:VCALENDAR
VERSION:2.0
PRODID:-//Squarespace Inc/Squarespace 6//v6//EN
BEGIN:VEVENT
UID:62ceec9a7fd2dd54bbe3bebe@squarespace.com
DTSTAMP:20220713T160705Z
DTSTART:20220715T010000Z
DTEND:20220715T030000Z
SUMMARY:Youth Summer Night (Brooklyn)
END:VEVENT
END:VCALENDAR
