BEGIN:VCALENDAR
VERSION:2.0
PRODID:-//Squarespace Inc/Squarespace 6//v6//EN
BEGIN:VEVENT
UID:627c2b201b12b62ae01faa79@squarespace.com
DTSTAMP:20220603T000545Z
DTSTART:20220603T230000Z
DTEND:20220604T030000Z
SUMMARY:The Good News @ NY CEFC
END:VEVENT
END:VCALENDAR
