BEGIN:VCALENDAR
VERSION:2.0
PRODID:-//Squarespace Inc/Squarespace 6//v6//EN
BEGIN:VEVENT
UID:629181c02a9e2703c265542a@squarespace.com
DTSTAMP:20220603T000632Z
DTSTART:20220603T223000Z
DTEND:20220603T233000Z
SUMMARY:The Good News @ LIU 1
END:VEVENT
END:VCALENDAR
