BEGIN:VCALENDAR
VERSION:2.0
PRODID:-//Squarespace Inc/Squarespace 6//v6//EN
BEGIN:VEVENT
UID:629810fc0345bd0a73f739c9@squarespace.com
DTSTAMP:20220603T000645Z
DTSTART:20220604T200000Z
DTEND:20220604T220000Z
SUMMARY:The Good News @ LIU 2
END:VEVENT
END:VCALENDAR
