BEGIN:VCALENDAR
VERSION:2.0
PRODID:-//Squarespace Inc/Squarespace 6//v6//EN
BEGIN:VEVENT
UID:629810fe241fdb330b38c705@squarespace.com
DTSTAMP:20220603T000657Z
DTSTART:20220604T220000Z
DTEND:20220605T000000Z
SUMMARY:The Good News @ LIU 3
END:VEVENT
END:VCALENDAR
