BEGIN:VCALENDAR
VERSION:2.0
PRODID:-//Squarespace Inc/Squarespace 6//v6//EN
BEGIN:VEVENT
UID:62ce42a244a52c3449cbc234@squarespace.com
DTSTAMP:20220713T160735Z
DTSTART:20220715T230000Z
DTEND:20220716T010000Z
SUMMARY:Summer Gospel Night (Manhattan)
END:VEVENT
END:VCALENDAR
