BEGIN:VCALENDAR
VERSION:2.0
PRODID:-//Squarespace Inc/Squarespace 6//v6//EN
BEGIN:VEVENT
UID:62ce3e530d5a766c75a636d4@squarespace.com
DTSTAMP:20220713T153430Z
DTSTART:20220713T233000Z
DTEND:20220714T010000Z
SUMMARY:Summer Bash - Boba &amp\; Boardgames (Flushing)
END:VEVENT
END:VCALENDAR
