BEGIN:VCALENDAR
VERSION:2.0
PRODID:-//Squarespace Inc/Squarespace 6//v6//EN
BEGIN:VEVENT
UID:62ce40fda135a0215eed64a9@squarespace.com
DTSTAMP:20220713T154317Z
DTSTART:20220716T233000Z
DTEND:20220717T010000Z
SUMMARY:Summer Bash - Pizza &amp\; Special Talk (Flushing)
END:VEVENT
END:VCALENDAR
