BEGIN:VCALENDAR
VERSION:2.0
PRODID:-//Squarespace Inc/Squarespace 6//v6//EN
BEGIN:VEVENT
UID:627eb6c129a3c45a7a895518@squarespace.com
DTSTAMP:20220524T140635Z
DTSTART:20220527T230000Z
DTEND:20220528T010000Z
SUMMARY:Happiness Is… | LIU Brooklyn
END:VEVENT
END:VCALENDAR
