BEGIN:VCALENDAR
VERSION:2.0
PRODID:-//Squarespace Inc/Squarespace 6//v6//EN
BEGIN:VEVENT
UID:627c22d94982ee0e06811b89@squarespace.com
DTSTAMP:20220524T140812Z
DTSTART:20220528T003000Z
DTEND:20220528T040000Z
SUMMARY:Happiness Is… | Church of Grace to the Fujianese\, Brooklyn
END:VEVENT
END:VCALENDAR
