BEGIN:VCALENDAR
VERSION:2.0
PRODID:-//Squarespace Inc/Squarespace 6//v6//EN
BEGIN:VEVENT
UID:62ceebfc9c1ec07f1c37068b@squarespace.com
DTSTAMP:20220713T160230Z
DTSTART:20220713T220000Z
DTEND:20220713T233000Z
SUMMARY:Pop-up: Free Snow Cones (Brooklyn)
END:VEVENT
END:VCALENDAR
