BEGIN:VCALENDAR
VERSION:2.0
PRODID:-//Squarespace Inc/Squarespace 6//v6//EN
BEGIN:VEVENT
UID:62d323d57b5741020aa06594@squarespace.com
DTSTAMP:20220720T150903Z
DTSTART:20220723T000000Z
DTEND:20220723T020000Z
SUMMARY:Destination: Happiness
END:VEVENT
END:VCALENDAR
