BEGIN:VCALENDAR
VERSION:2.0
PRODID:-//Squarespace Inc/Squarespace 6//v6//EN
BEGIN:VEVENT
UID:62ce43d71031a955d35d0e99@squarespace.com
DTSTAMP:20220713T153355Z
DTSTART:20220713T210000Z
DTEND:20220713T230000Z
SUMMARY:Sports Hangout (Manhattan)
END:VEVENT
END:VCALENDAR
