BEGIN:VCALENDAR
VERSION:2.0
PRODID:-//Squarespace Inc/Squarespace 6//v6//EN
BEGIN:VEVENT
UID:62ce44242e48dd26d9682361@squarespace.com
DTSTAMP:20220713T154203Z
DTSTART:20220714T210000Z
DTEND:20220714T220000Z
SUMMARY:Sports Hangout (Manhattan)
END:VEVENT
END:VCALENDAR
