BEGIN:VCALENDAR
VERSION:2.0
PRODID:-//Squarespace Inc/Squarespace 6//v6//EN
BEGIN:VEVENT
UID:62ce443bb0771173ebfb3d8a@squarespace.com
DTSTAMP:20220713T154230Z
DTSTART:20220715T210000Z
DTEND:20220715T220000Z
SUMMARY:Sports Hangout (Manhattan)
END:VEVENT
END:VCALENDAR
