BEGIN:VCALENDAR
VERSION:2.0
PRODID:-//Squarespace Inc/Squarespace 6//v6//EN
BEGIN:VEVENT
UID:62d322777372a872d6529b44@squarespace.com
DTSTAMP:20220716T204406Z
DTSTART:20220717T230000Z
DTEND:20220717T235500Z
SUMMARY:AYM Brooklyn Popup
END:VEVENT
END:VCALENDAR
