BEGIN:VCALENDAR
VERSION:2.0
PRODID:-//Squarespace Inc/Squarespace 6//v6//EN
BEGIN:VEVENT
UID:627eb5617059c42b1216f892@squarespace.com
DTSTAMP:20220516T041002Z
DTSTART:20220523T223000Z
DTEND:20220527T003000Z
SUMMARY:College Readiness Workshops - LIU Brooklyn
END:VEVENT
END:VCALENDAR
