BEGIN:VCALENDAR
VERSION:2.0
PRODID:-//Squarespace Inc/Squarespace 6//v6//EN
BEGIN:VEVENT
UID:627c25de2bc3af3c7d4324d7@squarespace.com
DTSTAMP:20220516T040922Z
DTSTART:20220523T213000Z
DTEND:20220525T233000Z
SUMMARY:College Readiness Workshops - Fort Hamilton High School
END:VEVENT
END:VCALENDAR
