BEGIN:VCALENDAR
VERSION:2.0
PRODID:-//Squarespace Inc/Squarespace 6//v6//EN
BEGIN:VEVENT
UID:628cfb64e76135553521fc76@squarespace.com
DTSTAMP:20220524T154359Z
DTSTART:20220523T221500Z
DTEND:20220525T233000Z
SUMMARY:College Readiness Camp
END:VEVENT
END:VCALENDAR
