BEGIN:VCALENDAR
VERSION:2.0
PRODID:-//Squarespace Inc/Squarespace 6//v6//EN
BEGIN:VEVENT
UID:62ce42063d5bba789ef51354@squarespace.com
DTSTAMP:20220713T153409Z
DTSTART:20220713T220000Z
DTEND:20220714T000000Z
SUMMARY:Boba &amp\; Boardgames (Manhattan)
END:VEVENT
END:VCALENDAR
