BEGIN:VCALENDAR
VERSION:2.0
PRODID:-//Squarespace Inc/Squarespace 6//v6//EN
BEGIN:VEVENT
UID:62ce42fe73cd8e10b638be5d@squarespace.com
DTSTAMP:20220713T154216Z
DTSTART:20220714T220000Z
DTEND:20220714T230000Z
SUMMARY:Boba &amp\; Boardgames (Manhattan)
END:VEVENT
END:VCALENDAR
