BEGIN:VCALENDAR
VERSION:2.0
PRODID:-//Squarespace Inc/Squarespace 6//v6//EN
BEGIN:VEVENT
UID:62ce43929816d0338c1dd1d7@squarespace.com
DTSTAMP:20220713T154141Z
DTSTART:20220717T184500Z
DTEND:20220717T210000Z
SUMMARY:Better Together Sunday (Brooklyn)
END:VEVENT
END:VCALENDAR
