BEGIN:VCALENDAR
VERSION:2.0
PRODID:-//Squarespace Inc/Squarespace 6//v6//EN
BEGIN:VEVENT
UID:62ce3d43b0771173ebfa7da1@squarespace.com
DTSTAMP:20220713T163545Z
DTSTART:20220716T163000Z
DTEND:20220716T183000Z
SUMMARY:Free SHSAT Camp
END:VEVENT
END:VCALENDAR
