BEGIN:VCALENDAR
VERSION:2.0
PRODID:-//Squarespace Inc/Squarespace 6//v6//EN
BEGIN:VEVENT
UID:64206e03082daf759f0f06f5@squarespace.com
DTSTAMP:20230326T161020Z
DTSTART:20230311T030000Z
DTEND:20230312T053000Z
SUMMARY:Ignition Youth Conference
END:VEVENT
END:VCALENDAR
