BEGIN:VCALENDAR
VERSION:2.0
PRODID:-//Squarespace Inc/Squarespace 6//v6//EN
BEGIN:VEVENT
UID:6420685c69296f14fef50e52@squarespace.com
DTSTAMP:20230326T155508Z
DTSTART:20220806T000000Z
DTEND:20220807T230000Z
SUMMARY:Area Youth Summer Retreat
END:VEVENT
END:VCALENDAR
