BEGIN:VCALENDAR
VERSION:2.0
PRODID:-//Squarespace Inc/Squarespace 6//v6//EN
BEGIN:VEVENT
UID:6420685c69296f14fef50e58@squarespace.com
DTSTAMP:20230326T155816Z
DTSTART:20220917T020000Z
DTEND:20220917T040000Z
SUMMARY:September AYM Monthly
END:VEVENT
END:VCALENDAR
