BEGIN:VCALENDAR
VERSION:2.0
PRODID:-//Squarespace Inc/Squarespace 6//v6//EN
BEGIN:VEVENT
UID:6420685c69296f14fef50e56@squarespace.com
DTSTAMP:20230326T155944Z
DTSTART:20221029T020000Z
DTEND:20221029T040000Z
SUMMARY:October AYM Monthly
END:VEVENT
END:VCALENDAR
