BEGIN:VCALENDAR
VERSION:2.0
PRODID:-//Squarespace Inc/Squarespace 6//v6//EN
BEGIN:VEVENT
UID:6420685c69296f14fef50e5a@squarespace.com
DTSTAMP:20230326T160349Z
DTSTART:20221112T160000Z
DTEND:20221113T000000Z
SUMMARY:Dare 2 Share 2022
END:VEVENT
END:VCALENDAR
