BEGIN:VCALENDAR
VERSION:2.0
PRODID:-//Squarespace Inc/Squarespace 6//v6//EN
BEGIN:VEVENT
UID:645ff2d254cc5a622b432abc@squarespace.com
DTSTAMP:20230519T172303Z
DTSTART:20230624T020000Z
DTEND:20230626T220000Z
SUMMARY:AYM Middle School Summer Camp
END:VEVENT
END:VCALENDAR
