BEGIN:VCALENDAR
VERSION:2.0
PRODID:-//Squarespace Inc/Squarespace 6//v6//EN
BEGIN:VEVENT
UID:645ff2e217ad576da3e6eeb0@squarespace.com
DTSTAMP:20230519T172340Z
DTSTART:20230805T190000Z
DTEND:20230807T220000Z
SUMMARY:AYM High School Summer Camp
END:VEVENT
END:VCALENDAR
