BEGIN:VCALENDAR
VERSION:2.0
PRODID:-//Squarespace Inc/Squarespace 6//v6//EN
BEGIN:VEVENT
UID:64206d89b19e75510d490bfd@squarespace.com
DTSTAMP:20230326T160825Z
DTSTART:20230213T030000Z
DTEND:20230213T050000Z
SUMMARY:AYM Sports Tournament
END:VEVENT
END:VCALENDAR
