BEGIN:VCALENDAR
VERSION:2.0
PRODID:-//Squarespace Inc/Squarespace 6//v6//EN
BEGIN:VEVENT
UID:64206e7892c7a53680abd5c0@squarespace.com
DTSTAMP:20230326T161206Z
DTSTART:20230327T020000Z
DTEND:20230327T040000Z
SUMMARY:AYM Sports Tournament
END:VEVENT
END:VCALENDAR
