BEGIN:VCALENDAR
VERSION:2.0
PRODID:-//Squarespace Inc/Squarespace 6//v6//EN
BEGIN:VEVENT
UID:645ff2def5ff3d71ceb592db@squarespace.com
DTSTAMP:20230521T013354Z
DTSTART:20230711T160000Z
DTEND:20230714T220000Z
SUMMARY:AYM Sports &amp\; Leadership Camp
END:VEVENT
END:VCALENDAR
