BEGIN:VCALENDAR
VERSION:2.0
PRODID:-//Squarespace Inc/Squarespace 6//v6//EN
BEGIN:VEVENT
UID:64206d296f53cb0a0e9c25e5@squarespace.com
DTSTAMP:20230326T160631Z
DTSTART:20221217T030000Z
DTEND:20221217T050000Z
SUMMARY:AYM Christmas Party
END:VEVENT
END:VCALENDAR
