BEGIN:VCALENDAR
VERSION:2.0
PRODID:-//Squarespace Inc/Squarespace 6//v6//EN
BEGIN:VEVENT
UID:614fb1284310b860b15aa687@squarespace.com
DTSTAMP:20210927T235132Z
DTSTART:20201219T030000Z
DTEND:20201219T043000Z
SUMMARY:Christmas Stream Watch Party
END:VEVENT
END:VCALENDAR
