BEGIN:VCALENDAR
VERSION:2.0
PRODID:-//Squarespace Inc/Squarespace 6//v6//EN
BEGIN:VEVENT
UID:614fb5bdd448400716cd8778@squarespace.com
DTSTAMP:20210927T234928Z
DTSTART:20210101T011500Z
DTEND:20210101T014500Z
SUMMARY:X Games Finale!
END:VEVENT
END:VCALENDAR
