BEGIN:VCALENDAR
VERSION:2.0
PRODID:-//Squarespace Inc/Squarespace 6//v6//EN
BEGIN:VEVENT
UID:614fb8b88436d53686a389f3@squarespace.com
DTSTAMP:20210927T164002Z
DTSTART:20200919T023000Z
DTEND:20200919T033000Z
SUMMARY:Why Am I So Stressed
END:VEVENT
END:VCALENDAR
