BEGIN:VCALENDAR
VERSION:2.0
PRODID:-//Squarespace Inc/Squarespace 6//v6//EN
BEGIN:VEVENT
UID:614fa1fb786cf067413c5880@squarespace.com
DTSTAMP:20210927T155746Z
DTSTART:20200516T023000Z
DTEND:20200516T033000Z
SUMMARY:Virtual Interpraise
END:VEVENT
END:VCALENDAR
