BEGIN:VCALENDAR
VERSION:2.0
PRODID:-//Squarespace Inc/Squarespace 6//v6//EN
BEGIN:VEVENT
UID:614fa26eb5f6ba69a9d2a08b@squarespace.com
DTSTAMP:20210927T235501Z
DTSTART:20201108T040000Z
DTEND:20201108T044500Z
SUMMARY:Virtual Escape Room
END:VEVENT
END:VCALENDAR
