BEGIN:VCALENDAR
VERSION:2.0
PRODID:-//Squarespace Inc/Squarespace 6//v6//EN
BEGIN:VEVENT
UID:6259ec3beef5817d8af0e71f@squarespace.com
DTSTAMP:20220415T221313Z
DTSTART:20220521T223000Z
DTEND:20220522T013000Z
SUMMARY:UCLA REVIVE Youth Rally
GEO:40.720756;-74.000761
LOCATION:UCLA Ackerman Union\, 308 Westwood Plaza\, Los Angeles\, CA 90024\
 , United States
END:VEVENT
END:VCALENDAR
